BEGIN:VCALENDAR
VERSION:2.0
PRODID:-//eventon.com NONSGML v1.0//EN
CALSCALE:GREGORIAN
METHOD:PUBLISH
BEGIN:VEVENT
UID:69e86a5a4a56a
DTSTAMP:20260422T062738Z
DTSTART:20260402T173000Z
DTEND:20260402T215900Z
LOCATION:
SUMMARY:RG Hamburg: Stammtisch
DESCRIPTION:Die Regionalgruppe Hamburg lädt zu ein Networking und Informat
 ionsaustausch ein. Die Veranstaltung ist offen für alle Mitglieder. Weiter
 e Information: Siehe Veranstalter.\nhttps://www.vk-online.de/events/rg-hamb
 urg-stammtisch-36/
URL:https://www.vk-online.de/events/rg-hamburg-stammtisch-36/
END:VEVENT
END:VCALENDAR