BEGIN:VCALENDAR
VERSION:2.0
PRODID:-//eventon.com NONSGML v1.0//EN
CALSCALE:GREGORIAN
METHOD:PUBLISH
BEGIN:VEVENT
UID:69e8559f7219c
DTSTAMP:20260422T045911Z
DTSTART:20260409T110000Z
DTEND:20260409T215900Z
LOCATION:
SUMMARY:RG Frankfurt: Poetry
DESCRIPTION:Die Regionalgruppe Frankfurt lädt zu &#8222;PRIDE Poesie &#821
 1; authentische Einblicke ins queere Leben&#8220; ein. Die Veranstaltung is
 t offen für alle Mitglieder. Weitere Information: Siehe Veranstalter.\nhtt
 ps://www.vk-online.de/events/rg-frankfurt-poetry/
URL:https://www.vk-online.de/events/rg-frankfurt-poetry/
END:VEVENT
END:VCALENDAR