BEGIN:VCALENDAR
VERSION:2.0
PRODID:-//eventon.com NONSGML v1.0//EN
CALSCALE:GREGORIAN
METHOD:PUBLISH
BEGIN:VEVENT
UID:69e83d1c610b3
DTSTAMP:20260422T031436Z
DTSTART:20260417T110000Z
DTEND:20260417T215900Z
LOCATION:
SUMMARY:Vorstand: Max-Spohr-Preis-Verleihung
DESCRIPTION:Der Vorstand lädt zur Max-Spohr-Preis-Verleihung ein. Die Vera
 nstaltung ist offen für alle Mitglieder. Für die Anmeldung\,  sowie für 
 weitere Informationen bitte bei der Geschäftsstelle unter info@vk-online.d
 e melden.\nhttps://www.vk-online.de/events/vorstand-max-spohr-preis-verleih
 ung/
URL:https://www.vk-online.de/events/vorstand-max-spohr-preis-verleihung/
END:VEVENT
END:VCALENDAR