BEGIN:VCALENDAR
VERSION:2.0
PRODID:-//eventon.com NONSGML v1.0//EN
CALSCALE:GREGORIAN
METHOD:PUBLISH
BEGIN:VEVENT
UID:69e822c85bfa5
DTSTAMP:20260422T012216Z
DTSTART:20260417T110000Z
DTEND:20260419T110000Z
LOCATION:
SUMMARY:FG Recht: Paulskirchenverfassung
DESCRIPTION:Die Fachgruppe Recht lädt zu einem Ausflug nach Frankfurt\,  u
 m einen Blick auf die Paulskirchenverfassung und die damit verbundene Histo
 rie von Frankfurt zu werfen. Die Veranstaltung ist offen für alle Mitglied
 er. Weitere Information: Siehe Veranstalter.\nhttps://www.vk-online.de/even
 ts/fg-recht-paulskirchenverfassung/
URL:https://www.vk-online.de/events/fg-recht-paulskirchenverfassung/
END:VEVENT
END:VCALENDAR