BEGIN:VCALENDAR
VERSION:2.0
PRODID:-//eventon.com NONSGML v1.0//EN
CALSCALE:GREGORIAN
METHOD:PUBLISH
BEGIN:VEVENT
UID:69e80baea3ca2
DTSTAMP:20260421T234342Z
DTSTART:20260418T110000Z
DTEND:20260418T215900Z
LOCATION:
SUMMARY:FG Young Professionals: Fachgruppentagung
DESCRIPTION:Die Fachgruppe Young Professionals lädt zur Fachgruppentagung 
 ein. Die Veranstaltung ist offen für alle Mitglieder. Weitere Information:
  Siehe Veranstalter.\nhttps://www.vk-online.de/events/fg-young-professional
 s-fachgruppentagung/
URL:https://www.vk-online.de/events/fg-young-professionals-fachgruppentagung/
END:VEVENT
END:VCALENDAR