BEGIN:VCALENDAR
VERSION:2.0
PRODID:-//eventon.com NONSGML v1.0//EN
CALSCALE:GREGORIAN
METHOD:PUBLISH
BEGIN:VEVENT
UID:69e7f17268da1
DTSTAMP:20260421T215146Z
DTSTART:20260424T110000Z
DTEND:20260426T110000Z
LOCATION:
SUMMARY:FG Gesundheit: Präsenzwochenende
DESCRIPTION:Die Fachgruppe Gesundheit lädt zu einer gesundheitspolitischer
  Netzwerkwanderung mit Terminabsprachen für 2026 und Neuwahl der FG-Leitun
 g ein. Die Veranstaltung ist offen für alle Mitglieder. Weitere Informatio
 n: Siehe Veranstalter.\nhttps://www.vk-online.de/events/fg-gesundheit-praes
 enzwochenende-2/
URL:https://www.vk-online.de/events/fg-gesundheit-praesenzwochenende-2/
END:VEVENT
END:VCALENDAR