BEGIN:VCALENDAR
VERSION:2.0
PRODID:-//eventon.com NONSGML v1.0//EN
CALSCALE:GREGORIAN
METHOD:PUBLISH
BEGIN:VEVENT
UID:69e7c07ab90e0
DTSTAMP:20260421T182250Z
DTSTART:20260504T170000Z
DTEND:20260504T215900Z
LOCATION:
SUMMARY:RG München: Networking
DESCRIPTION:Die Regionalgruppe München lädt zu ein Networking und Informa
 tionsaustausch mit der lokalen queeren Szene ein. Der VK übernimmt Thekend
 ienst im schwul-queeren Zentrum &#8222;sub&#8220; und stellt sich als Verba
 nd vor. (Unterstützung erwünscht!) Die Veranstaltung ist offen für alle 
 Mitglieder. Weitere Information: Siehe Veranstalter.\nhttps://www.vk-online
 .de/events/rg-muenchen-networking/
URL:https://www.vk-online.de/events/rg-muenchen-networking/
END:VEVENT
END:VCALENDAR