BEGIN:VCALENDAR
VERSION:2.0
PRODID:-//eventon.com NONSGML v1.0//EN
CALSCALE:GREGORIAN
METHOD:PUBLISH
BEGIN:VEVENT
UID:69e7d6e678591
DTSTAMP:20260421T195830Z
DTSTART:20260506T170000Z
DTEND:20260506T215900Z
LOCATION:
SUMMARY:RG Dortmund: Was macht eigentlich eine Kreativ- und Marketingagentur?
DESCRIPTION:Die Regionalgruppe Dortmund lädt zu einem Vortrag mit folgende
 n Thema: Was macht eigentlich eine Kreativ- und Marketingagentur? Die Veran
 staltung ist offen für alle Mitglieder. Weitere Information: Siehe Veranst
 alter.\nhttps://www.vk-online.de/events/rg-dortmund-was-macht-eigentlich-ei
 ne-kreativ-und-marketingagentur/
URL:https://www.vk-online.de/events/rg-dortmund-was-macht-eigentlich-eine-kreativ-und-marketingagentur/
END:VEVENT
END:VCALENDAR