BEGIN:VCALENDAR
VERSION:2.0
PRODID:-//eventon.com NONSGML v1.0//EN
CALSCALE:GREGORIAN
METHOD:PUBLISH
BEGIN:VEVENT
UID:69e7ef264d76d
DTSTAMP:20260421T214158Z
DTSTART:20260507T170000Z
DTEND:20260507T215900Z
LOCATION:
SUMMARY:RG Düsseldorf: Diskussionsrunde
DESCRIPTION:Die Regionalgruppe Düsseldorf lädt zu einer Diskussion über 
 ein ausgewähltes Thema ein. Die Veranstaltung ist offen für alle Mitglied
 er. Weitere Information: Siehe Veranstalter.\nhttps://www.vk-online.de/even
 ts/rg-duesseldorf-diskussionsrunde-2/
URL:https://www.vk-online.de/events/rg-duesseldorf-diskussionsrunde-2/
END:VEVENT
END:VCALENDAR