BEGIN:VCALENDAR
VERSION:2.0
PRODID:-//eventon.com NONSGML v1.0//EN
CALSCALE:GREGORIAN
METHOD:PUBLISH
BEGIN:VEVENT
UID:69ecb500be1a4
DTSTAMP:20260425T123512Z
DTSTART:20260507T120000Z
DTEND:20260509T120000Z
LOCATION:
SUMMARY:FG Forschung und Technik: Treffen in dem Zeppelin-Werk und Luftfahrtmuseen
DESCRIPTION:Die Fachgruppe Forschung und Technik lädt zu einem Treffen in 
 dem Zeppelin-Werk\,  Zeppelin-Werft und Besuch der Luftfahrtmuseen in Ludwi
 gshafen ein. Die Veranstaltung ist offen für alle Mitglieder. Weitere Info
 rmation: Siehe Veranstalter.\nhttps://www.vk-online.de/events/fg-forschung-
 und-technik-treffen-in-dem-zeppelin-werk-und-luftfahrtmuseen/
URL:https://www.vk-online.de/events/fg-forschung-und-technik-treffen-in-dem-zeppelin-werk-und-luftfahrtmuseen/
END:VEVENT
END:VCALENDAR