BEGIN:VCALENDAR
VERSION:2.0
PRODID:-//eventon.com NONSGML v1.0//EN
CALSCALE:GREGORIAN
METHOD:PUBLISH
BEGIN:VEVENT
UID:69ece967eb6c7
DTSTAMP:20260425T161847Z
DTSTART:20260513T120000Z
DTEND:20260513T215900Z
LOCATION:
SUMMARY:RG Düsseldorf: Networking beim Spargelessen
DESCRIPTION:Die Regionalgruppe Düsseldorf lädt zu ein Networking und Info
 rmationsaustausch beim jährlichen Spargelessen ein. Die Veranstaltung ist 
 offen für alle Mitglieder. Weitere Information: Siehe Veranstalter.\nhttps
 ://www.vk-online.de/events/rg-duesseldorf-networking-beim-spargelessen/
URL:https://www.vk-online.de/events/rg-duesseldorf-networking-beim-spargelessen/
END:VEVENT
END:VCALENDAR