BEGIN:VCALENDAR
VERSION:2.0
PRODID:-//eventon.com NONSGML v1.0//EN
CALSCALE:GREGORIAN
METHOD:PUBLISH
BEGIN:VEVENT
UID:69ecff8a48d55
DTSTAMP:20260425T175314Z
DTSTART:20260513T120000Z
DTEND:20260513T215900Z
LOCATION:
SUMMARY:RG Frankfurt: Fachvortrag
DESCRIPTION:Die Regionalgruppe Frankfurt lädt zu einem Vortrag zu neuen Ar
 beitswelten ein. Die Veranstaltung ist offen für alle Mitglieder. Weitere 
 Information: Siehe Veranstalter.\nhttps://www.vk-online.de/events/rg-frankf
 urt-fachvortrag/
URL:https://www.vk-online.de/events/rg-frankfurt-fachvortrag/
END:VEVENT
END:VCALENDAR