BEGIN:VCALENDAR
VERSION:2.0
PRODID:-//eventon.com NONSGML v1.0//EN
CALSCALE:GREGORIAN
METHOD:PUBLISH
BEGIN:VEVENT
UID:69ed195c281f4
DTSTAMP:20260425T194324Z
DTSTART:20260515T173000Z
DTEND:20260515T215900Z
LOCATION:
SUMMARY:RG Hamburg: Menu Fixe
DESCRIPTION:Die Regionalgruppe Hamburg lädt zu ein Networking beim Essen e
 in. Die Veranstaltung ist offen für alle Mitglieder. Weitere Information: 
 Siehe Veranstalter.\nhttps://www.vk-online.de/events/rg-hamburg-menu-fixe-3
 /
URL:https://www.vk-online.de/events/rg-hamburg-menu-fixe-3/
END:VEVENT
END:VCALENDAR