BEGIN:VCALENDAR
VERSION:2.0
PRODID:-//eventon.com NONSGML v1.0//EN
CALSCALE:GREGORIAN
METHOD:PUBLISH
BEGIN:VEVENT
UID:69ed313a4129d
DTSTAMP:20260425T212514Z
DTSTART:20260520T173000Z
DTEND:20260520T215900Z
LOCATION:
SUMMARY:RG Hannover: Monatliches Networking
DESCRIPTION:Die Regionalgruppe Hannover lädt zu ein Networking und Informa
 tionsaustausch ein. Die Veranstaltung ist offen für alle Mitglieder. Weite
 re Information: Siehe Veranstalter.\nhttps://www.vk-online.de/events/rg-han
 nover-monatliches-networking-5/
URL:https://www.vk-online.de/events/rg-hannover-monatliches-networking-5/
END:VEVENT
END:VCALENDAR