BEGIN:VCALENDAR
VERSION:2.0
PRODID:-//eventon.com NONSGML v1.0//EN
CALSCALE:GREGORIAN
METHOD:PUBLISH
BEGIN:VEVENT
UID:69ed45feb5889
DTSTAMP:20260425T225350Z
DTSTART:20260520T170000Z
DTEND:20260520T215900Z
LOCATION:
SUMMARY:RG Dortmund: Networking Treffen
DESCRIPTION:Die Regionalgruppe Dortmund lädt zu ein Networking und Informa
 tionsaustausch ein. Die Veranstaltung ist offen für alle Mitglieder. Weite
 re Information: Siehe Veranstalter.\nhttps://www.vk-online.de/events/rg-dor
 tmund-networking-treffen-2/
URL:https://www.vk-online.de/events/rg-dortmund-networking-treffen-2/
END:VEVENT
END:VCALENDAR