BEGIN:VCALENDAR
VERSION:2.0
PRODID:-//eventon.com NONSGML v1.0//EN
CALSCALE:GREGORIAN
METHOD:PUBLISH
BEGIN:VEVENT
UID:69ed5cd8bbb54
DTSTAMP:20260426T003120Z
DTSTART:20260520T180000Z
DTEND:20260520T215900Z
LOCATION:
SUMMARY:RG Düsseldorf: Stammtisch
DESCRIPTION:Die Regionalgruppe Düsseldorf lädt zu ein Networking und Info
 rmationsaustausch ein. Die Veranstaltung ist offen für alle Mitglieder. We
 itere Information: Siehe Veranstalter.\nhttps://www.vk-online.de/events/rg-
 duesseldorf-stammtisch-48/
URL:https://www.vk-online.de/events/rg-duesseldorf-stammtisch-48/
END:VEVENT
END:VCALENDAR