BEGIN:VCALENDAR
VERSION:2.0
PRODID:-//eventon.com NONSGML v1.0//EN
CALSCALE:GREGORIAN
METHOD:PUBLISH
BEGIN:VEVENT
UID:69ed77ba110aa
DTSTAMP:20260426T022602Z
DTSTART:20260525T170000Z
DTEND:20260525T215900Z
LOCATION:
SUMMARY:RG Berlin: Grüner Salon
DESCRIPTION:Die Regionalgruppe Berlin lädt zum Grünen Salon ein. Die Vera
 nstaltung ist offen für alle Mitglieder. Weitere Information: Siehe Verans
 talter.\nhttps://www.vk-online.de/events/rg-berlin-gruener-salon-28/
URL:https://www.vk-online.de/events/rg-berlin-gruener-salon-28/
END:VEVENT
END:VCALENDAR