BEGIN:VCALENDAR
VERSION:2.0
PRODID:-//eventon.com NONSGML v1.0//EN
CALSCALE:GREGORIAN
METHOD:PUBLISH
BEGIN:VEVENT
UID:69ed90574ef98
DTSTAMP:20260426T041103Z
DTSTART:20260526T173000Z
DTEND:20260526T215900Z
LOCATION:
SUMMARY:RG Hamburg: Podiumsdiskussion
DESCRIPTION:Die Regionalgruppe Hamburg lädt zu einer Diskussion über folg
 endes Thema ein: &#8222;Vielfalt als Motor für Wirtschaft und Stadt: Polit
 ische Runde mit SPD &amp; Grünen – Update zum Hamburg Proud Table\,  gem
 einsam mit dem mhc&#8220; Die Veranstaltung ist offen für alle Mitglieder.
  Weitere Information: Siehe Veranstalter.\nhttps://www.vk-online.de/events/
 rg-hamburg-politische-runde/
URL:https://www.vk-online.de/events/rg-hamburg-politische-runde/
END:VEVENT
END:VCALENDAR