BEGIN:VCALENDAR
VERSION:2.0
PRODID:-//eventon.com NONSGML v1.0//EN
CALSCALE:GREGORIAN
METHOD:PUBLISH
BEGIN:VEVENT
UID:69e7f1f022e36
DTSTAMP:20260421T215352Z
DTSTART:20260624T170000Z
DTEND:20260624T215900Z
LOCATION:
SUMMARY:RG Dortmund: Networking
DESCRIPTION:Die Regionalgruppe Dortmund lädt zu ein Networking und Informa
 tionsaustausch ein. Die Veranstaltung ist offen für alle Mitglieder. Weite
 re Information: Siehe Veranstalter.\nhttps://www.vk-online.de/events/rg-dor
 tmund-networking-5/
URL:https://www.vk-online.de/events/rg-dortmund-networking-5/
END:VEVENT
END:VCALENDAR