BEGIN:VCALENDAR
VERSION:2.0
PRODID:-//eventon.com NONSGML v1.0//EN
CALSCALE:GREGORIAN
METHOD:PUBLISH
BEGIN:VEVENT
UID:69e7db44098a3
DTSTAMP:20260421T201708Z
DTSTART:20260625T123200Z
DTEND:20260627T123200Z
LOCATION:
SUMMARY:FG HR und Forschung und Technik: Besichtigung der Industrie 4.0 Fabrik
DESCRIPTION:Die Fachgruppen Human Resources und Forschung und Technik laden
  zu einer Besichtigung der Industrie 4.0 Fabrik ein. Die Veranstaltung ist 
 offen für alle Mitglieder. Weitere Information: Siehe Veranstalter.\nhttps
 ://www.vk-online.de/events/fg-hr-und-forschung-und-technik-besichtigung-der
 -industrie-4-0-fabrik/
URL:https://www.vk-online.de/events/fg-hr-und-forschung-und-technik-besichtigung-der-industrie-4-0-fabrik/
END:VEVENT
END:VCALENDAR