BEGIN:VCALENDAR
VERSION:2.0
PRODID:-//eventon.com NONSGML v1.0//EN
CALSCALE:GREGORIAN
METHOD:PUBLISH
BEGIN:VEVENT
UID:69e7c07b05e1c
DTSTAMP:20260421T182251Z
DTSTART:20260627T120000Z
DTEND:20260627T215900Z
LOCATION:
SUMMARY:RG München: CSD
DESCRIPTION:Die Regionalgruppe München lädt zum CSD ein und freut sich ü
 ber Mitstreiter bei dem Aufbau\,  Abbau und Standbetreuung. Am Vorabend gib
 t es ein gemeinsames Grillen für alle Helfer. Die Veranstaltung ist offen 
 für alle Mitglieder. Weitere Information: Siehe Veranstalter.\nhttps://www
 .vk-online.de/events/rg-muenchen-csd/
URL:https://www.vk-online.de/events/rg-muenchen-csd/
END:VEVENT
END:VCALENDAR