BEGIN:VCALENDAR
VERSION:2.0
PRODID:-//eventon.com NONSGML v1.0//EN
CALSCALE:GREGORIAN
METHOD:PUBLISH
BEGIN:VEVENT
UID:69e7d6e68c258
DTSTAMP:20260421T195830Z
DTSTART:20260629T170000Z
DTEND:20260629T215900Z
LOCATION:
SUMMARY:RG Berlin: Mitgliederversammlung der RG Berlin
DESCRIPTION:Die Regionalgruppe Berlin lädt zur MV der RG Berlin zur Planun
 g der kommenden Aktivitäten ein. Die Veranstaltung ist offen für alle Mit
 glieder. Weitere Information: Siehe Veranstalter.\nhttps://www.vk-online.de
 /events/rg-berlin-mitgliederversammlung-der-rg-berlin/
URL:https://www.vk-online.de/events/rg-berlin-mitgliederversammlung-der-rg-berlin/
END:VEVENT
END:VCALENDAR