BEGIN:VCALENDAR
VERSION:2.0
PRODID:-//eventon.com NONSGML v1.0//EN
CALSCALE:GREGORIAN
METHOD:PUBLISH
BEGIN:VEVENT
UID:69e7eea571f41
DTSTAMP:20260421T213949Z
DTSTART:20260703T173000Z
DTEND:20260703T215900Z
LOCATION:
SUMMARY:RG Hamburg: Stammtisch
DESCRIPTION:Die Regionalgruppe Hamburg lädt zu ein Networking und Informat
 ionsaustausch ein. Die Veranstaltung ist offen für alle Mitglieder. Weiter
 e Information: Siehe Veranstalter.\nhttps://www.vk-online.de/events/rg-hamb
 urg-stammtisch-39/
URL:https://www.vk-online.de/events/rg-hamburg-stammtisch-39/
END:VEVENT
END:VCALENDAR