BEGIN:VCALENDAR
VERSION:2.0
PRODID:-//eventon.com NONSGML v1.0//EN
CALSCALE:GREGORIAN
METHOD:PUBLISH
BEGIN:VEVENT
UID:69e807dbd4609
DTSTAMP:20260421T232723Z
DTSTART:20260704T173000Z
DTEND:20260707T112000Z
LOCATION:
SUMMARY:FG Kleine Unternehmen: Fachgruppentagung
DESCRIPTION:Die Fachgruppe Kleine Unternehmen lädt zur Fachgruppentagung m
 it folgenden Themen ein: &#8222;Risikomanagement und IT-Sicherheit&#8220; D
 ie Veranstaltung ist offen für alle Mitglieder. Weitere Information: Siehe
  Veranstalter.\nhttps://www.vk-online.de/events/fg-kleine-unternehmen-fachg
 ruppentagung-4/
URL:https://www.vk-online.de/events/fg-kleine-unternehmen-fachgruppentagung-4/
END:VEVENT
END:VCALENDAR