BEGIN:VCALENDAR
VERSION:2.0
PRODID:-//eventon.com NONSGML v1.0//EN
CALSCALE:GREGORIAN
METHOD:PUBLISH
BEGIN:VEVENT
UID:69e81df210256
DTSTAMP:20260422T010138Z
DTSTART:20260705T090000Z
DTEND:20260705T215900Z
LOCATION:
SUMMARY:RG Berlin: Networking-Brunch
DESCRIPTION:Die Regionalgruppe Berlin lädt zu ein Networking und Informati
 onsaustausch ein. Die Veranstaltung ist offen für alle Mitglieder. Weitere
  Information: Siehe Veranstalter.\nhttps://www.vk-online.de/events/rg-berli
 n-networking-brunch-19/
URL:https://www.vk-online.de/events/rg-berlin-networking-brunch-19/
END:VEVENT
END:VCALENDAR