BEGIN:VCALENDAR
VERSION:2.0
PRODID:-//eventon.com NONSGML v1.0//EN
CALSCALE:GREGORIAN
METHOD:PUBLISH
BEGIN:VEVENT
UID:69e853e985037
DTSTAMP:20260422T045153Z
DTSTART:19691231T230000Z
DTEND:20260709T215900Z
LOCATION:
SUMMARY:RG Frankfurt: Fachvortrag
DESCRIPTION:Die Regionalgruppe Frankfurt lädt zum Fachvortrag &#8222;Burno
 ut&#8220;  ein. Die Veranstaltung ist offen für alle Mitglieder. Weitere 
 Information: Siehe Veranstalter.\nhttps://www.vk-online.de/events/rg-frankf
 urt-fachvortrag-2/
URL:https://www.vk-online.de/events/rg-frankfurt-fachvortrag-2/
END:VEVENT
END:VCALENDAR