BEGIN:VCALENDAR
VERSION:2.0
PRODID:-//eventon.com NONSGML v1.0//EN
CALSCALE:GREGORIAN
METHOD:PUBLISH
BEGIN:VEVENT
UID:69e86b0239277
DTSTAMP:20260422T063026Z
DTSTART:20260714T163000Z
DTEND:20260714T215900Z
LOCATION:
SUMMARY:RG Berlin: Jour Fixe
DESCRIPTION:Die Regionalgruppe Berlin lädt zu ein Networking und Informati
 onsaustausch ein. Die Veranstaltung ist offen für alle Mitglieder. Weitere
  Information: Siehe Veranstalter.\nhttps://www.vk-online.de/events/rg-berli
 n-jour-fixe-38/
URL:https://www.vk-online.de/events/rg-berlin-jour-fixe-38/
END:VEVENT
END:VCALENDAR