BEGIN:VCALENDAR
VERSION:2.0
PRODID:-//eventon.com NONSGML v1.0//EN
CALSCALE:GREGORIAN
METHOD:PUBLISH
BEGIN:VEVENT
UID:69e88091031c9
DTSTAMP:20260422T080225Z
DTSTART:20260714T173000Z
DTEND:20260714T215900Z
LOCATION:
SUMMARY:RG Münster Osnabrück: Jour Fixe
DESCRIPTION:Die Regionalgruppe Münster Osnabrück lädt zu ein Networking 
 und Informationsaustausch ein. Die Veranstaltung ist offen für alle Mitgli
 eder. Weitere Information: Siehe Veranstalter.\nhttps://www.vk-online.de/ev
 ents/rg-muenster-osnabrueck-jour-fixe-10/
URL:https://www.vk-online.de/events/rg-muenster-osnabrueck-jour-fixe-10/
END:VEVENT
END:VCALENDAR