BEGIN:VCALENDAR
VERSION:2.0
PRODID:-//eventon.com NONSGML v1.0//EN
CALSCALE:GREGORIAN
METHOD:PUBLISH
BEGIN:VEVENT
UID:69eb2d5c05316
DTSTAMP:20260424T084412Z
DTSTART:20260715T170000Z
DTEND:20260715T215900Z
LOCATION:
SUMMARY:RG Dortmund: Networking
DESCRIPTION:Die Regionalgruppe Dortmund lädt zu ein Networking und Informa
 tionsaustausch ein. Die Veranstaltung ist offen für alle Mitglieder. Weite
 re Information: Siehe Veranstalter.\nhttps://www.vk-online.de/events/rg-dor
 tmund-networking-6/
URL:https://www.vk-online.de/events/rg-dortmund-networking-6/
END:VEVENT
END:VCALENDAR