BEGIN:VCALENDAR
VERSION:2.0
PRODID:-//eventon.com NONSGML v1.0//EN
CALSCALE:GREGORIAN
METHOD:PUBLISH
BEGIN:VEVENT
UID:69eb44c03cd74
DTSTAMP:20260424T102400Z
DTSTART:20260715T170000Z
DTEND:20260715T215900Z
LOCATION:
SUMMARY:RG Hannover: monatliches Networking
DESCRIPTION:Die Regionalgruppe Hannover lädt zu ein Networking und Informa
 tionsaustausch ein. Die Veranstaltung ist offen für alle Mitglieder. Weite
 re Information: Siehe Veranstalter.\nhttps://www.vk-online.de/events/rg-han
 nover-monatliches-networking-7/
URL:https://www.vk-online.de/events/rg-hannover-monatliches-networking-7/
END:VEVENT
END:VCALENDAR