BEGIN:VCALENDAR
VERSION:2.0
PRODID:-//eventon.com NONSGML v1.0//EN
CALSCALE:GREGORIAN
METHOD:PUBLISH
BEGIN:VEVENT
UID:69eb5a1a46121
DTSTAMP:20260424T115506Z
DTSTART:20260717T170000Z
DTEND:20260717T215900Z
LOCATION:
SUMMARY:RG Hamburg: VK@Work
DESCRIPTION:Die Regionalgruppe Hamburg lÃ¤dt zu einen Einblick ins Hospiz L
 euchtfeuer &#8211; Vor-Ort-Besichtigung ein. Die Veranstaltung ist offen fÃ
 ¼r alle Mitglieder. Weitere Information: Siehe Veranstalter.\nhttps://www.v
 k-online.de/events/rg-hamburg-vkwork-2/
URL:https://www.vk-online.de/events/rg-hamburg-vkwork-2/
END:VEVENT
END:VCALENDAR