BEGIN:VCALENDAR
VERSION:2.0
PRODID:-//eventon.com NONSGML v1.0//EN
CALSCALE:GREGORIAN
METHOD:PUBLISH
BEGIN:VEVENT
UID:69eb7282bb47e
DTSTAMP:20260424T133914Z
DTSTART:20260718T113000Z
DTEND:20260718T215900Z
LOCATION:
SUMMARY:RG Hamburg: CSD Rostock
DESCRIPTION:Die Regionalgruppe Hamburg lädt zur Beteiligung zum CSD in Ros
 tock ein. Die Veranstaltung ist offen für alle Mitglieder. Weitere Informa
 tion: Siehe Veranstalter.\nhttps://www.vk-online.de/events/rg-hamburg-csd-r
 ostock/
URL:https://www.vk-online.de/events/rg-hamburg-csd-rostock/
END:VEVENT
END:VCALENDAR