BEGIN:VCALENDAR
VERSION:2.0
PRODID:-//eventon.com NONSGML v1.0//EN
CALSCALE:GREGORIAN
METHOD:PUBLISH
BEGIN:VEVENT
UID:69eb8d7f0de0d
DTSTAMP:20260424T153423Z
DTSTART:20260718T100000Z
DTEND:20260718T215900Z
LOCATION:
SUMMARY:RG Dortmund: Ausstellungsführung
DESCRIPTION:Die Regionalgruppe Dortmund lädt zur Ausstellungsführung &#82
 22;Monet &#8211; Cézanne &#8211; Matisse &#8211; The Scharf Collection&#82
 30;&#8220; ein. Die Veranstaltung ist offen für alle Mitglieder. Weitere I
 nformation: Siehe Veranstalter.\nhttps://www.vk-online.de/events/rg-dortmun
 d-ausstellungsfuehrung-4/
URL:https://www.vk-online.de/events/rg-dortmund-ausstellungsfuehrung-4/
END:VEVENT
END:VCALENDAR