BEGIN:VCALENDAR
VERSION:2.0
PRODID:-//eventon.com NONSGML v1.0//EN
CALSCALE:GREGORIAN
METHOD:PUBLISH
BEGIN:VEVENT
UID:69eba3347e826
DTSTAMP:20260424T170700Z
DTSTART:20260718T110000Z
DTEND:20260719T113600Z
LOCATION:
SUMMARY:RG Berlin: Lesbisch-Schwules-Straßenfest
DESCRIPTION:Die Regionalgruppe Berlin lädt zum Lesbisch-Schwulen-Straßenf
 est ein und sucht noch nach Unterstützer für den VK-Stand. Die Veranstalt
 ung ist offen für alle Mitglieder. Weitere Information: Siehe Veranstalter
 .\nhttps://www.vk-online.de/events/rg-berlin-lesbisch-schwules-strassenfest
 -2/
URL:https://www.vk-online.de/events/rg-berlin-lesbisch-schwules-strassenfest-2/
END:VEVENT
END:VCALENDAR