BEGIN:VCALENDAR
VERSION:2.0
PRODID:-//eventon.com NONSGML v1.0//EN
CALSCALE:GREGORIAN
METHOD:PUBLISH
BEGIN:VEVENT
UID:69ebb9e0e7129
DTSTAMP:20260424T184344Z
DTSTART:20260719T123000Z
DTEND:20260719T215900Z
LOCATION:
SUMMARY:RG Köln Bonn: VK Kultur
DESCRIPTION:Die Regionalgruppe Köln Bonn lädt zu einer Gruppenführung zu
 r Sonderausstellung zum Werk der japanischen Künstlerin Yayoi Kusama ein. 
 Die Veranstaltung ist offen für alle Mitglieder. Weitere Information: Sieh
 e Veranstalter.\nhttps://www.vk-online.de/events/rg-koeln-bonn-vk-kultur/
URL:https://www.vk-online.de/events/rg-koeln-bonn-vk-kultur/
END:VEVENT
END:VCALENDAR