BEGIN:VCALENDAR
VERSION:2.0
PRODID:-//eventon.com NONSGML v1.0//EN
CALSCALE:GREGORIAN
METHOD:PUBLISH
BEGIN:VEVENT
UID:69ec017b3a78e
DTSTAMP:20260424T234915Z
DTSTART:20260723T110000Z
DTEND:20260725T113900Z
LOCATION:
SUMMARY:EPIC: Sommerprogramm
DESCRIPTION:Euch erwarten drei Tage europäischer Austausch\,  politische I
 mpulse\,  inspirierende Begegnungen und der Berliner CSD als gemeinsamer Ab
 schluss. &nbsp; Die Veranstaltung ist offen für alle Mitglieder. Weitere I
 nformation: Siehe Veranstalter.\nhttps://www.vk-online.de/events/epic-somme
 rprogramm/
URL:https://www.vk-online.de/events/epic-sommerprogramm/
END:VEVENT
END:VCALENDAR