BEGIN:VCALENDAR
VERSION:2.0
PRODID:-//eventon.com NONSGML v1.0//EN
CALSCALE:GREGORIAN
METHOD:PUBLISH
BEGIN:VEVENT
UID:69ebd09bc6b29
DTSTAMP:20260424T202043Z
DTSTART:20260727T170000Z
DTEND:20260727T215900Z
LOCATION:
SUMMARY:RG Berlin: Grüner Salon
DESCRIPTION:Die Regionalgruppe Berlin lädt zum Grünen Salon ein. Die Vera
 nstaltung ist offen für alle Mitglieder. Weitere Information: Siehe Verans
 talter.\nhttps://www.vk-online.de/events/rg-berlin-gruener-salon-31/
URL:https://www.vk-online.de/events/rg-berlin-gruener-salon-31/
END:VEVENT
END:VCALENDAR