BEGIN:VCALENDAR
VERSION:2.0
PRODID:-//eventon.com NONSGML v1.0//EN
CALSCALE:GREGORIAN
METHOD:PUBLISH
BEGIN:VEVENT
UID:69ebe60b39bb1
DTSTAMP:20260424T215211Z
DTSTART:20260731T110000Z
DTEND:20260731T215900Z
LOCATION:
SUMMARY:RG Hamburg: Hamburg Pride
DESCRIPTION:Die Regionalgruppe Hamburg lädt zum Hamburg Pride ein. Die Ver
 anstaltung ist offen für alle Mitglieder. Weitere Information: Siehe Veran
 stalter.\nhttps://www.vk-online.de/events/rg-hamburg-hamburg-pride/
URL:https://www.vk-online.de/events/rg-hamburg-hamburg-pride/
END:VEVENT
END:VCALENDAR